BEGIN:VCALENDAR
VERSION:2.0
PRODID:-//ELP Events - ECPv6.15.17//NONSGML v1.0//EN
CALSCALE:GREGORIAN
METHOD:PUBLISH
X-ORIGINAL-URL:https://events.elp.co.nz
X-WR-CALDESC:Events for ELP Events
REFRESH-INTERVAL;VALUE=DURATION:PT1H
X-Robots-Tag:noindex
X-PUBLISHED-TTL:PT1H
BEGIN:VTIMEZONE
TZID:Pacific/Auckland
BEGIN:STANDARD
TZOFFSETFROM:+1300
TZOFFSETTO:+1200
TZNAME:NZST
DTSTART:20230401T140000
END:STANDARD
BEGIN:DAYLIGHT
TZOFFSETFROM:+1200
TZOFFSETTO:+1300
TZNAME:NZDT
DTSTART:20230923T140000
END:DAYLIGHT
BEGIN:STANDARD
TZOFFSETFROM:+1300
TZOFFSETTO:+1200
TZNAME:NZST
DTSTART:20240406T140000
END:STANDARD
BEGIN:DAYLIGHT
TZOFFSETFROM:+1200
TZOFFSETTO:+1300
TZNAME:NZDT
DTSTART:20240928T140000
END:DAYLIGHT
BEGIN:STANDARD
TZOFFSETFROM:+1300
TZOFFSETTO:+1200
TZNAME:NZST
DTSTART:20250405T140000
END:STANDARD
BEGIN:DAYLIGHT
TZOFFSETFROM:+1200
TZOFFSETTO:+1300
TZNAME:NZDT
DTSTART:20250927T140000
END:DAYLIGHT
END:VTIMEZONE
BEGIN:VEVENT
DTSTART;TZID=Pacific/Auckland:20240221T190000
DTEND;TZID=Pacific/Auckland:20241113T203000
DTSTAMP:20260423T164010
CREATED:20231211T042723Z
LAST-MODIFIED:20250527T051118Z
UID:10000115-1708542000-1731529800@events.elp.co.nz
SUMMARY:ELP Online Lecture Series 2024
DESCRIPTION:We only have one lecture left in the series! Join Roberta on 13 November to discuss A.I in ECE… \nOnly $40.00 per person. Not available on the date listed? Don’t worry\, all who are pre-registered will receive a link to the recording. \n			\n			\n				\n				\n				\n				\n			\n				\n				\n				\n				\n				\n				\n				Click Here To Register for 13 November\n			\n			\n				\n				\n				\n				\n			\n				\n				\n				\n				\n				\n				\n				\n				\n				\n				\n				  \n  \n  \n  \n  \n  \n  \n  \n  \n  \n  \n  \n  \n  \n  \n  \n  \n 
URL:https://events.elp.co.nz/event/elp-online-lecture-series-2024/
LOCATION:ONLINE EVENT\, New Zealand
ATTACH;FMTTYPE=image/png:https://events.elp.co.nz/wp-content/uploads/2023/12/Title-Lecture-Series-2024.png
END:VEVENT
BEGIN:VEVENT
DTSTART;TZID=Pacific/Auckland:20240911T183000
DTEND;TZID=Pacific/Auckland:20240911T203000
DTSTAMP:20260423T164010
CREATED:20240809T051006Z
LAST-MODIFIED:20240913T024800Z
UID:10000149-1726079400-1726086600@events.elp.co.nz
SUMMARY:Te Whāriki in Action: Using Learning Stories as evidence for your Internal Evaluation: Online
DESCRIPTION:UNFORTUNATELY THIS EVENT IS FULL\, HOWEVER WE STILL HAVE SPACE ON 25 SEPTEMBER: CLICK TO BOOK \n			\n			\n				\n				\n				\n				\n			\n				\n				\n				\n				\n				\n				\n				\n				\n				\n				\n				\nRoberta SkeochOnline on Zoom Wednesday 11 September 20246:30-8:30pm \nTe Whāriki in Action:Using Learning Stories for Internal Evaluation and Professional Growth \nHe iti\, he iti mānukaThough little\, it is a mānuka tree \nThis particular whakatauki relates to the mānuka/ kahikātoa tree. Though small in size\, mānuka has a staggering amount of uses\, from food to rongoā\, as well as all manner of tools and artefacts. Like the mānuka tree\, wonderfully written Learning Stories can also serve a number of purposes from assessment to evidence of Te Whāriki in action\, Internal Evaluation and teacher inquiry. This workshop will focus on using Learning Stories as evidence for the Standards of the Teaching Profession for teacher certification purposes. \nKaiako who engage in our process have left with a kete of tools and strategies to unburden themselves of meaningless paperwork. They are left inspired to create a measurable\, meaningful\, and motivated professional growth pathway for themselves and their team! \nScroll to the bottom of this page to register. \nPlease note: this event will not be recorded however we do have other dates available. Get in touch to find out more admin@elp.co.nz \n			\n			\n				\n				\n				\n				\n			\n				\n				\n				\n				\n				\n				\n				\n				\n				\n				\n				Sometimes a 2 hour workshop isn’t enough! Deepen your learning and unlock even greater results by booking a personalised follow-up workshop with Roberta. Whether you prefer a 1:1 session\, or an experience your whole team can be part of\, we’ve got you covered! Enjoy an exclusive offer of just $125 for a one-hour Zoom session\, only available to participants of this wānanga. \nNo hurry\, you can decide after the event. \n			\n			\n				\n				\n				\n				\n				\n				\n				\n				\n				\n				\n			\n				Request a private follow-up\n			\n			\n				\n				\n				\n				\n			\n				\n				\n				\n				\n				\n				\n				\n				\n				\n				\n				Also\, available for purchase is our hardcopy handbook – be part of a growing movement of early learning excellence! Our Internal Evaluation handbook is a proven tool that has already supported hundreds of settings across Aotearoa New Zealand. To invest in your team’s Professional Growth\, all those registered for this event will receive a 10% discount! \n			\n			\n				\n				\n				\n				\n				\n				\n				\n				\n				\n				\n			\n				Email to find out more
URL:https://events.elp.co.nz/event/te-whariki-in-action-using-learning-stories-as-evidence-for-your-internal-evaluation-online/
LOCATION:ONLINE EVENT\, New Zealand
ATTACH;FMTTYPE=image/png:https://events.elp.co.nz/wp-content/uploads/2024/08/2.png
END:VEVENT
BEGIN:VEVENT
DTSTART;TZID=Pacific/Auckland:20240911T190000
DTEND;TZID=Pacific/Auckland:20240911T203000
DTSTAMP:20260423T164010
CREATED:20240221T005145Z
LAST-MODIFIED:20240718T003123Z
UID:10000135-1726081200-1726086600@events.elp.co.nz
SUMMARY:Strengthening local curriculum in early childhood settings for our pēpi
DESCRIPTION:Strengthening local curriculum in early childhood settings for our pēpiDiana Cruse\, University of Waikato \nWednesday 11 September\, 7-8:30pm \nOur pēpi thrive when they are in environments that nurture their wairua. Having a localised curriculum\, that builds upon the strengths of whānau\, hapū\, and iwi is one way to implement this. \nBuilding upon research from a 3 year Marsden research project and my PhD\, this kōrero will explore ideas for early learning settings to create and strengthen relationships with whānau\, hapū\, and iwi\, and unpack some of the benefits that this can have for our pēpi\, whānau and communities. \nAs a previous centre owner and manager\, an early childhood kaiako\, and an iwi early childhood education advisor\, I will look at this through various lens of governance\, management and practice. I will also make links to our Professional Growth Cycle\, Internal evaluation and Assessment practices\, to assist our amazing early learning kaiako in their own teaching practices. \nMauri ora! \n			\n			\n				\n				\n				\n				\n			\n				\n				\n				\n				\n				\n				\n				View the other events in this series
URL:https://events.elp.co.nz/event/strengthening-local-curriculum-in-early-childhood-settings-for-our-pepi/
LOCATION:ONLINE EVENT\, New Zealand
ATTACH;FMTTYPE=image/png:https://events.elp.co.nz/wp-content/uploads/2023/12/Title-Lecture-Series-2024.png
END:VEVENT
END:VCALENDAR