BEGIN:VCALENDAR
VERSION:2.0
PRODID:-//ELP Events - ECPv6.15.17//NONSGML v1.0//EN
CALSCALE:GREGORIAN
METHOD:PUBLISH
X-WR-CALNAME:ELP Events
X-ORIGINAL-URL:https://events.elp.co.nz
X-WR-CALDESC:Events for ELP Events
REFRESH-INTERVAL;VALUE=DURATION:PT1H
X-Robots-Tag:noindex
X-PUBLISHED-TTL:PT1H
BEGIN:VTIMEZONE
TZID:Pacific/Auckland
BEGIN:STANDARD
TZOFFSETFROM:+1300
TZOFFSETTO:+1200
TZNAME:NZST
DTSTART:20230401T140000
END:STANDARD
BEGIN:DAYLIGHT
TZOFFSETFROM:+1200
TZOFFSETTO:+1300
TZNAME:NZDT
DTSTART:20230923T140000
END:DAYLIGHT
BEGIN:STANDARD
TZOFFSETFROM:+1300
TZOFFSETTO:+1200
TZNAME:NZST
DTSTART:20240406T140000
END:STANDARD
BEGIN:DAYLIGHT
TZOFFSETFROM:+1200
TZOFFSETTO:+1300
TZNAME:NZDT
DTSTART:20240928T140000
END:DAYLIGHT
BEGIN:STANDARD
TZOFFSETFROM:+1300
TZOFFSETTO:+1200
TZNAME:NZST
DTSTART:20250405T140000
END:STANDARD
BEGIN:DAYLIGHT
TZOFFSETFROM:+1200
TZOFFSETTO:+1300
TZNAME:NZDT
DTSTART:20250927T140000
END:DAYLIGHT
END:VTIMEZONE
BEGIN:VEVENT
DTSTART;TZID=Pacific/Auckland:20240320T183000
DTEND;TZID=Pacific/Auckland:20240321T203000
DTSTAMP:20260423T233141
CREATED:20231207T233526Z
LAST-MODIFIED:20240320T045459Z
UID:10000114-1710959400-1711053000@events.elp.co.nz
SUMMARY:Te Whāriki in Action: Internal Evaluation & Teacher Inquiry
DESCRIPTION:He iti\, he iti mānukaThough little\, it is a mānuka treeThis particular whakatauki relates to the mānuka/ kahikātoa tree. Though small in size\, mānuka has a staggering amount of uses\, from food to rongoā\, as well as all manner of tools and artefacts. Like the mānuka tree\, wonderfully written Learning Stories can also serve a number of purposes from assessment to evidence of Te Whāriki in action\, Internal Evaluation and teacher inquiry. This workshop will focus on using Learning Stories as evidence for the Standards of the Teaching Profession for teacher certification purposes. \n			\n			\n				\n				\n				\n				\n			\n				\n				\n				\n				\n				\n				\n				\n				\n				\n				\n				20 March @ AUT Millennium\, 17 Antares Bay\, Mairangi Bay\, Auckland21 March @ Little Feet Childcare Centre\, 26 Yates Rd\, Mangere East\, Auckland \n			\n			\n				\n				\n				\n				\n			\n				\n				\n				\n				\n				\n				\n				\n				\n				\n				\n				\n			\n			\n				\n				\n				\n				\n			\n				\n				\n				\n				\n				\n				\n				\n				\n				\n				\n				Unfortunately both of these workshops are now sold out\, apologies for any inconvenienceEmail us at admin@elp.co.nz to go on the waiting list\, and to get notified of other events as they are scheduled. Please take the time to check out what else we have on offer here
URL:https://events.elp.co.nz/event/te-whariki-in-action-internal-evaluation-teacher-inquiry/
LOCATION:Auckland – various locations\, Auckland\, New Zealand
END:VEVENT
BEGIN:VEVENT
DTSTART;TZID=Pacific/Auckland:20240410T190000
DTEND;TZID=Pacific/Auckland:20240410T203000
DTSTAMP:20260423T233141
CREATED:20240221T001006Z
LAST-MODIFIED:20240221T001030Z
UID:10000130-1712775600-1712781000@events.elp.co.nz
SUMMARY:Opening the door on teaching and learning for infants in ECE
DESCRIPTION:Opening the door on teaching and learning for infants in ECE: Intuited pedagogy or intentional practice Professor E. Jayne White\, School of Teacher Education\, Faculty of Education\, University of Canterbury \nWednesday 10 April\, 7-8:30pm \nDespite the fact that infants have been part of the NZ ECE curriculum for well over twenty years\, the pedagogies that orient their learning are not easily asserted. There are several reasons for this – not least the lodging of infant pedagogies within wider agendas for older learners that emphasise intentionality. In this session Jayne will draw from her recent research to explore a series of alternative dialogic approaches to infant pedagogies and practices that turn to sensing\, relational pedagogies at their heart. \n			\n			\n				\n				\n				\n				\n			\n				\n				\n				\n				\n				\n				\n				View the other events in this series
URL:https://events.elp.co.nz/event/opening-the-door-on-teaching-and-learning-for-infants-in-ece/
LOCATION:ONLINE EVENT\, New Zealand
END:VEVENT
BEGIN:VEVENT
DTSTART;TZID=Pacific/Auckland:20240419T090000
DTEND;TZID=Pacific/Auckland:20240419T153000
DTSTAMP:20260423T233141
CREATED:20240212T233409Z
LAST-MODIFIED:20240313T064829Z
UID:10000126-1713517200-1713540600@events.elp.co.nz
SUMMARY:Strengthening bicultural leadership in your place - Hamilton
DESCRIPTION:It is integral for us as leaders in ECE to deepen and strengthen our knowledge and delivery of te tiriti-centred leadership\, in order to enact and remain true to Te Whāriki\, our bicultural curriculum. Join Maria in a full-day waananga exploring what it means to be an effective\, impactful leader in your place. Sit alongside other leaders and draw from the kōrero and insights shared. We will explore a range of whakaaro and strategies for kaiarahi to understand how they can fulfil their commitment within the partnership between tangata whenua and tangata tiriti including: deepening understanding of Māori models of leadership\, leading in a mana-enhancing way\, tīkanga Māori\, ways of effectively working alongside local iwi and hapū\, broadening competence and understanding of Māori ways of knowing\, being and doing to strengthen overall bicultural leadership and practice. \n			\n				Download a flyer to print and share\n			\n				\n				\n				\n				\n				To be held at Ventura Inn & Suites\, Kirikiriroa Hamilton \n9:00am-3:30pm on Friday 19 April 2024 \nDelicious morning tea and lunch provided \n			\n			\n				\n				\n				\n				\n			\n				\n				\n				\n				\n				\n				\n				\n				\n				\n				\n				\n			\n			\n				\n				\n				\n				\n			\n				\n				\n				\n				\n				\n				\n				Tickets for this event are no longer available. Click here to get in touch if you would like to find out about more similar events!
URL:https://events.elp.co.nz/event/strengthening-bicultural-leadership-in-your-place-2/
LOCATION:Ventura Inn and Suites\, 23 Clarence Street\, Hamilton\, Waikato\, 3204\, New Zealand
CATEGORIES:Workshop
END:VEVENT
BEGIN:VEVENT
DTSTART;TZID=Pacific/Auckland:20240508T190000
DTEND;TZID=Pacific/Auckland:20240508T203000
DTSTAMP:20260423T233141
CREATED:20240221T002109Z
LAST-MODIFIED:20250527T051239Z
UID:10000131-1715194800-1715200200@events.elp.co.nz
SUMMARY:Beyond the Horizon: Continuing the journey into Kei Tua o te Pae – Part 2 Unleashed!
DESCRIPTION:Beyond the Horizon: Continuing the journey into Kei Tua o te Pae – Part 2 Unleashed!Wendy Lee\, Educational Leadership Project \nWednesday 8 May\, 7-8:30pm \nLast year\, my lecture set the stage for Kei Tua o te Pae\, titled “Kei tua o te Pae\, beyond the horizon: An opportunity to revisit our Learning Stories journey.” Now\, two decades since the first publication\, we’ve witnessed significant advancements in documenting children’s learning assessment. In part two\, I’ll further this journey\, exploring the crucial aspects raised by Kei Tua o te Pae\, starting with the importance of Māori educational advancement. The focus will then shift to ‘assessment for learning’ Te aromatawai mō te akoranga\, covering key elements like everyday contexts\, embracing uncertainty\, listening to mokopuna\, and collective assessments. Throughout\, I’ll update documentation\, showcasing the richness of our two-decade journey and the enduring value of exemplars. The resource\, anchored in the powerful metaphors of Te Whāriki and Kei Tua o te Pae\, continues to fortify and enrich our educational practice in Aotearoa and beyond. \n			\n			\n				\n				\n				\n				\n			\n				\n				\n				\n				\n				\n				\n				View the other events in this series
URL:https://events.elp.co.nz/event/beyond-the-horizon-continuing-the-journey-into-kei-tua-o-te-pae-part-2-unleashed/
LOCATION:ONLINE EVENT\, New Zealand
END:VEVENT
BEGIN:VEVENT
DTSTART;TZID=Pacific/Auckland:20240515T183000
DTEND;TZID=Pacific/Auckland:20240515T203000
DTSTAMP:20260423T233141
CREATED:20240325T045432Z
LAST-MODIFIED:20240325T045438Z
UID:10000139-1715797800-1715805000@events.elp.co.nz
SUMMARY:He aha ō koutou wawata? What are your aspirations?: Tauranga
DESCRIPTION:He aha ō koutou wawata? What are your aspirations?Maria SydneyWednesday 15 May\, 6:30-8:30pmCome and have an ASPIRATIONAL kōrero about ASPIRATIONS! Ways we can include them\, ways to write about them\, ideas for ascertaining them\, where they can come from\, the wisdom\, dreams and stories attached to them and ways to celebrate and honour the mana that is within them. \n			\n			\n				\n				\n				\n				\n			\n				\n				\n				\n				\n				\n				\n				\n				\n				\n				\n				\n			\n				\n				\n				\n				\n				A wide range of topics presented from 6:30-8:30pm!\nClick here to go back to the full series \n			\n			\n				\n				\n				\n				\n			\n				\n				\n				\n				\n				\n				\n				\n				\n				\n				\n				Please read our Terms and Conditions before purchasing.
URL:https://events.elp.co.nz/event/he-aha-o-koutou-wawata-what-are-your-aspirations-tauranga/
LOCATION:Greerton Early Learning Centre\, 1 Emmett Street\, Tauranga\, 3112\, New Zealand
END:VEVENT
BEGIN:VEVENT
DTSTART;TZID=Pacific/Auckland:20240524T090000
DTEND;TZID=Pacific/Auckland:20240524T153000
DTSTAMP:20260423T233141
CREATED:20240212T235625Z
LAST-MODIFIED:20240213T010121Z
UID:10000127-1716541200-1716564600@events.elp.co.nz
SUMMARY:Strengthening bicultural leadership in your place - Tauranga
DESCRIPTION:It is integral for us as leaders in ECE to deepen and strengthen our knowledge and delivery of te tiriti-centred leadership\, in order to enact and remain true to Te Whāriki\, our bicultural curriculum. Join Maria in a full-day waananga exploring what it means to be an effective\, impactful leader in your place. Sit alongside other leaders and draw from the kōrero and insights shared. We will explore a range of whakaaro and strategies for kaiarahi to understand how they can fulfil their commitment within the partnership between tangata whenua and tangata tiriti including: deepening understanding of Māori models of leadership\, leading in a mana-enhancing way\, tīkanga Māori\, ways of effectively working alongside local iwi and hapū\, broadening competence and understanding of Māori ways of knowing\, being and doing to strengthen overall bicultural leadership and practice. \n			\n				Download a flyer to print and share\n			\n				\n				\n				\n				\n				To be held at Greerton Early Learning Centre\, Tauranga \n9:00am-3:30pm on Friday 24 May 2024 \nDelicious morning tea and lunch provided \n			\n			\n				\n				\n				\n				\n			\n				\n				\n				\n				\n				\n				\n				\n				\n				\n				\n				\n			\n			\n				\n				\n				\n				\n			\n				\n				\n				\n				\n				\n				\n				Register below\, if you have problems click here to complete a short online form
URL:https://events.elp.co.nz/event/strengthening-bicultural-leadership-in-your-place-tauranga/
LOCATION:Greerton Early Learning Centre\, 1 Emmett Street\, Tauranga\, 3112\, New Zealand
CATEGORIES:Workshop
END:VEVENT
BEGIN:VEVENT
DTSTART;TZID=Pacific/Auckland:20240612T190000
DTEND;TZID=Pacific/Auckland:20240612T203000
DTSTAMP:20260423T233141
CREATED:20240221T002936Z
LAST-MODIFIED:20240221T003000Z
UID:10000132-1718218800-1718224200@events.elp.co.nz
SUMMARY:Weaving Te Whāriki Aspirations into Our Collective Learning Culture
DESCRIPTION:Weaving Te Whāriki Aspirations into Our Collective Learning CultureLorraine Sands\, Educational Leadership Project \nWednesday 12 June\, 7-8:30pm \nWe all have different stories\, varied experiences\, and unique world views. We celebrate this uniqueness\, yet we are also committed\, as early childhood kaiako\, to being responsive to our mokopuna in ways that bring Te Whāriki aspirations to life. How then might we embrace the unique stories of our community while being very clear about the kind of learning culture we collectively aspire to? How do we figure out together ways to live Te Whāriki each day\, in the small listening responsive\, empathic moments as well as in the big value-laden messages we send to mokopuna\, whānau\, and each other through the ways we design our learning environments? \nThis workshop considers these ideas\, particularly in light of the ways we nurture each other’s professional growth and provide evidence for ERO and the MOE that we meet our obligations to document our progress towards embedding Te Whāriki aspirations into our individual and collective practices. \n			\n			\n				\n				\n				\n				\n			\n				\n				\n				\n				\n				\n				\n				View the other events in this series
URL:https://events.elp.co.nz/event/weaving-te-whariki-aspirations-into-our-collective-learning-culture/
LOCATION:ONLINE EVENT\, New Zealand
END:VEVENT
BEGIN:VEVENT
DTSTART;TZID=Pacific/Auckland:20240619T183000
DTEND;TZID=Pacific/Auckland:20240619T203000
DTSTAMP:20260423T233141
CREATED:20240325T045846Z
LAST-MODIFIED:20240607T024803Z
UID:10000140-1718821800-1718829000@events.elp.co.nz
SUMMARY:Te Whāriki in Action: Using Learning Stories as evidence for your Internal Evaluation: Tauranga
DESCRIPTION:Te Whāriki in Action: Using Learning Stories as evidence for your Internal EvaluationRoberta SkeochWednesday 19 June\, 6:30-8:30pmHe iti\, he iti mānukaThough little\, it is a mānuka treeThis particular whakatauki relates to the mānuka/ kahikātoa tree. Though small in size\, mānuka has a staggering amount of uses\, from food to rongoā\, as well as all manner of tools and artefacts. Like the mānuka tree\, wonderfully written Learning Stories can also serve a number of purposes from assessment to evidence of Te Whāriki in action\, Internal Evaluation and teacher inquiry. This workshop will focus on using Learning Stories as evidence for the Standards of the Teaching Profession for teacher certification purposes. \n			\n			\n				\n				\n				\n				\n			\n				\n				\n				\n				\n				\n				\n				\n				\n				\n				\n				\n			\n				\n				\n				\n				\n				A wide range of topics presented from 6:30-8:30pm!\nClick here to go back to the full series \n			\n			\n				\n				\n				\n				\n			\n				\n				\n				\n				\n				\n				\n				\n				\n				\n				\n				Please read our Terms and Conditions before purchasing.
URL:https://events.elp.co.nz/event/te-whariki-in-action-using-learning-stories-as-evidence-for-your-internal-evaluation-tauranga/
LOCATION:Greerton Early Learning Centre\, 1 Emmett Street\, Tauranga\, 3112\, New Zealand
END:VEVENT
BEGIN:VEVENT
DTSTART;TZID=Pacific/Auckland:20240710T190000
DTEND;TZID=Pacific/Auckland:20240710T203000
DTSTAMP:20260423T233141
CREATED:20240221T003415Z
LAST-MODIFIED:20240711T224903Z
UID:10000133-1720638000-1720643400@events.elp.co.nz
SUMMARY:Sewing Pūrākau in the Fabric of Our Place – A Kaiako Te Tiriti Perspective
DESCRIPTION:Sewing Pūrākau in the Fabric of Our Place – A Kaiako Te Tiriti PerspectiveCatalina Thompson\, Educational Leadership Project \nWednesday 10 July\, 7-8:30pm \nLocalised curriculum or place-based curriculum are phrases we often hear in our pedagogical discourse. In essence\, these concepts are concerned with the relationship between people and their identities\, the place which they occupy as a learning community and the spaces around it\, imbued with story and history. The unique fabric of our learning space is what localises our curriculum. In the New Zealand Annual Review of Education\, 2009\, Wally Penetito tells us that place-based education “emerges from the particular attributes of a place and ….connects place with self and community….These curricula include multi-generational and multicultural dimensions.” For me\, one of the most powerful resources we possess in enacting meaningfully such curriculum are pūrākau o tangata whenua which\, from a Mātauranga Māori perspective “seek to explain who we are\, where we are from\, why we do things the way we do and how we organise ourselves with an eye to both past and future.” (Puwhare R.\, 2016). Moreover\, we cannot speak of truly honouring Te Tiriti o Waitangi in our early childhood spaces without knowing the stories of the land we stand on. But how can we practically achieve this ‘knowing’ for our tamariki me ōna whānau? This lecture seeks to give one answer to a complex yet intriguing question from a kaiako Te Tiriti perspective. \n			\n			\n				\n				\n				\n				\n			\n				\n				\n				\n				\n				\n				\n				View the other events in this series
URL:https://events.elp.co.nz/event/sewing-purakau-in-the-fabric-of-our-place-a-kaiako-te-tiriti-perspective/
LOCATION:ONLINE EVENT\, New Zealand
END:VEVENT
BEGIN:VEVENT
DTSTART;TZID=Pacific/Auckland:20240715T150000
DTEND;TZID=Pacific/Auckland:20240715T180000
DTSTAMP:20260423T233141
CREATED:20240519T231628Z
LAST-MODIFIED:20240612T064047Z
UID:10000145-1721055600-1721066400@events.elp.co.nz
SUMMARY:Dispositions for Joyful Learners\, with David Gilkes - Auckland
DESCRIPTION:Monday 15 July\, 3:00-6:00pm\nAUT Millennium\, Rosedale\nTāmaki Makaurau Auckland\n			\n				\n				\n				\n				\n				$120.00 per person\, including light refreshments \n			\n				Click here to download a flyer to print and share\n			\n			\n				\n				\n				\n				\n			\n				\n				\n				\n				\n				\n				\n				\n				\n				\n				\n				Dispositions matter. We know that the attitudes and habits of mind we bring to situations are crucial for lifelong learning. Curiosity\, empathy\, problem solving\, creativity\, collaboration\, and risk-taking are just some of the dispositions we see children embodying each day. Looking through the lens of dispositions\, along with big ideas and concepts\, help us as educators to stretch thinking and co-design learning experiences with children which are joyful\, authentic\, and engaging. \nSo how do we purposefully notice\, respond\, and plan for dispositions? What dispositions do we need as adults who work alongside the thinking\, researching child? And what environmental contexts might support dispositions? Through sharing stories from practice\, and opportunities for discussion\, David will reconnect us with the importance of reflecting on ‘what’s worth knowing’ and embracing joyful possibilities. \n			\n			\n				\n				\n				\n				\n			\n				\n				\n				\n				\n				\n				\n				\n				\n				\n				\n				\n			\n			\n				\n				\n				\n				\n				\n				\n				\n				\n				\n				David Gilkes has been involved in early years education in Australia for 30 years\, the majority of this time working as a teacher alongside 4 and 5 year old children and their families. In 2014\, David was awarded a National Excellence in Teaching Award for Innovation in Early Childhood. He has been Director of an Early Learning Centre in Canberra and an Early Years Network Leader in the Tasmanian Department of Education. David spent eight years as convener of the Tasmanian Reggio Emilia Network\, part of the Reggio Emilia Australia Information Exchange. He has participated in numerous study tours to Reggio Emilia\, as well as Forest Schools in Denmark. David now works full time as an Education Consultant and considers himself a lifelong\, curious learner and a proud wobbler of thinking.
URL:https://events.elp.co.nz/event/dispositions-for-joyful-learners-with-david-gilkes/
LOCATION:AUT Millennium\, Rosedale\, Auckland\, 17 Antares Place\, Rosedale\, Auckland\, 0632\, New Zealand
END:VEVENT
BEGIN:VEVENT
DTSTART;TZID=Pacific/Auckland:20240716T180000
DTEND;TZID=Pacific/Auckland:20240716T200000
DTSTAMP:20260423T233141
CREATED:20240607T065803Z
LAST-MODIFIED:20240709T225644Z
UID:10000146-1721152800-1721160000@events.elp.co.nz
SUMMARY:Dispositions for Joyful Learners\, with David Gilkes - Waikato
DESCRIPTION:Tuesday 16 July\, 6:00-8:00pm\n\nVelo 1\, Grassroots Trust Velodrome\, Cambridge\, Waikato\n			\n				\n				\n				\n				\n				$60.00 per person \n			\n				Click here to download a flyer to print and share\n			\n			\n				\n				\n				\n				\n			\n				\n				\n				\n				\n				\n				\n				\n				\n				\n				\n				Dispositions matter. We know that the attitudes and habits of mind we bring to situations are crucial for lifelong learning. Curiosity\, empathy\, problem solving\, creativity\, collaboration\, and risk-taking are just some of the dispositions we see children embodying each day. Looking through the lens of dispositions\, along with big ideas and concepts\, help us as educators to stretch thinking and co-design learning experiences with children which are joyful\, authentic\, and engaging. \nSo how do we purposefully notice\, respond\, and plan for dispositions? What dispositions do we need as adults who work alongside the thinking\, researching child? And what environmental contexts might support dispositions? Through sharing stories from practice\, and opportunities for discussion\, David will reconnect us with the importance of reflecting on ‘what’s worth knowing’ and embracing joyful possibilities. \n			\n			\n				\n				\n				\n				\n			\n				\n				\n				\n				\n				\n				\n				\n				\n				\n				\n				\n			\n			\n				\n				\n				\n				\n				\n				\n				\n				\n				\n				David Gilkes has been involved in early years education in Australia for 30 years\, the majority of this time working as a teacher alongside 4 and 5 year old children and their families. In 2014\, David was awarded a National Excellence in Teaching Award for Innovation in Early Childhood. He has been Director of an Early Learning Centre in Canberra and an Early Years Network Leader in the Tasmanian Department of Education. David spent eight years as convener of the Tasmanian Reggio Emilia Network\, part of the Reggio Emilia Australia Information Exchange. He has participated in numerous study tours to Reggio Emilia\, as well as Forest Schools in Denmark. David now works full time as an Education Consultant and considers himself a lifelong\, curious learner and a proud wobbler of thinking.
URL:https://events.elp.co.nz/event/dispositions-for-joyful-learners-with-david-gilkes-waikato/
LOCATION:Grassroots Trust Velodrome\, 15 Hanlin Road\, Cambridge\, Waikato\, 3283\, New Zealand
END:VEVENT
BEGIN:VEVENT
DTSTART;TZID=Pacific/Auckland:20240717T183000
DTEND;TZID=Pacific/Auckland:20240717T203000
DTSTAMP:20260423T233141
CREATED:20240325T050315Z
LAST-MODIFIED:20240325T050427Z
UID:10000141-1721241000-1721248200@events.elp.co.nz
SUMMARY:The Promise of Play: Tauranga
DESCRIPTION:The Promise of PlayLorraine SandsWednesday 17 July\, 6:30-8:30pm“Play: How it shapes the brain\, opens the imagination\, and invigorates the soul”I share Stuart Brown’s book title with you because it gives such a visual interpretation of the way play grows a child’s brain\, builds empathy\, fosters social learning and generates creativity and innovation. Alison Gopnik’s comments are challenging too. “Our job is not to shape our children’s minds; it is to let those minds explore all the possibilities that the world allows”.Teachers’ practise that honours free play honours the aspirations of Te Whāriki as we are all asked to enable agentic children to have choices about what to learn\, when\, and with whom. This workshop provides practical examples of how to design environments for authentic free play to unfold. We will explore how to use Learning Stories to analyse the dispositions and working theories that are strengthened when children immerse themselves in play. \n			\n			\n				\n				\n				\n				\n			\n				\n				\n				\n				\n				\n				\n				\n				\n				\n				\n				\n			\n				\n				\n				\n				\n				A wide range of topics presented from 6:30-8:30pm!\nClick here to go back to the full series \n			\n			\n				\n				\n				\n				\n			\n				\n				\n				\n				\n				\n				\n				\n				\n				\n				\n				Please read our Terms and Conditions before purchasing.
URL:https://events.elp.co.nz/event/the-promise-of-play-tauranga/
LOCATION:Greerton Early Learning Centre\, 1 Emmett Street\, Tauranga\, 3112\, New Zealand
END:VEVENT
END:VCALENDAR