BEGIN:VCALENDAR
VERSION:2.0
PRODID:-//ELP Events - ECPv6.15.17//NONSGML v1.0//EN
CALSCALE:GREGORIAN
METHOD:PUBLISH
X-ORIGINAL-URL:https://events.elp.co.nz
X-WR-CALDESC:Events for ELP Events
REFRESH-INTERVAL;VALUE=DURATION:PT1H
X-Robots-Tag:noindex
X-PUBLISHED-TTL:PT1H
BEGIN:VTIMEZONE
TZID:Pacific/Auckland
BEGIN:STANDARD
TZOFFSETFROM:+1300
TZOFFSETTO:+1200
TZNAME:NZST
DTSTART:20230401T140000
END:STANDARD
BEGIN:DAYLIGHT
TZOFFSETFROM:+1200
TZOFFSETTO:+1300
TZNAME:NZDT
DTSTART:20230923T140000
END:DAYLIGHT
BEGIN:STANDARD
TZOFFSETFROM:+1300
TZOFFSETTO:+1200
TZNAME:NZST
DTSTART:20240406T140000
END:STANDARD
BEGIN:DAYLIGHT
TZOFFSETFROM:+1200
TZOFFSETTO:+1300
TZNAME:NZDT
DTSTART:20240928T140000
END:DAYLIGHT
BEGIN:STANDARD
TZOFFSETFROM:+1300
TZOFFSETTO:+1200
TZNAME:NZST
DTSTART:20250405T140000
END:STANDARD
BEGIN:DAYLIGHT
TZOFFSETFROM:+1200
TZOFFSETTO:+1300
TZNAME:NZDT
DTSTART:20250927T140000
END:DAYLIGHT
END:VTIMEZONE
BEGIN:VEVENT
DTSTART;TZID=Pacific/Auckland:20240419T090000
DTEND;TZID=Pacific/Auckland:20240419T153000
DTSTAMP:20260422T122828
CREATED:20240212T233409Z
LAST-MODIFIED:20240313T064829Z
UID:10000126-1713517200-1713540600@events.elp.co.nz
SUMMARY:Strengthening bicultural leadership in your place - Hamilton
DESCRIPTION:It is integral for us as leaders in ECE to deepen and strengthen our knowledge and delivery of te tiriti-centred leadership\, in order to enact and remain true to Te Whāriki\, our bicultural curriculum. Join Maria in a full-day waananga exploring what it means to be an effective\, impactful leader in your place. Sit alongside other leaders and draw from the kōrero and insights shared. We will explore a range of whakaaro and strategies for kaiarahi to understand how they can fulfil their commitment within the partnership between tangata whenua and tangata tiriti including: deepening understanding of Māori models of leadership\, leading in a mana-enhancing way\, tīkanga Māori\, ways of effectively working alongside local iwi and hapū\, broadening competence and understanding of Māori ways of knowing\, being and doing to strengthen overall bicultural leadership and practice. \n			\n				Download a flyer to print and share\n			\n				\n				\n				\n				\n				To be held at Ventura Inn & Suites\, Kirikiriroa Hamilton \n9:00am-3:30pm on Friday 19 April 2024 \nDelicious morning tea and lunch provided \n			\n			\n				\n				\n				\n				\n			\n				\n				\n				\n				\n				\n				\n				\n				\n				\n				\n				\n			\n			\n				\n				\n				\n				\n			\n				\n				\n				\n				\n				\n				\n				Tickets for this event are no longer available. Click here to get in touch if you would like to find out about more similar events!
URL:https://events.elp.co.nz/event/strengthening-bicultural-leadership-in-your-place-2/
LOCATION:Ventura Inn and Suites\, 23 Clarence Street\, Hamilton\, Waikato\, 3204\, New Zealand
CATEGORIES:Workshop
END:VEVENT
BEGIN:VEVENT
DTSTART;TZID=Pacific/Auckland:20240524T090000
DTEND;TZID=Pacific/Auckland:20240524T153000
DTSTAMP:20260422T122828
CREATED:20240212T235625Z
LAST-MODIFIED:20240213T010121Z
UID:10000127-1716541200-1716564600@events.elp.co.nz
SUMMARY:Strengthening bicultural leadership in your place - Tauranga
DESCRIPTION:It is integral for us as leaders in ECE to deepen and strengthen our knowledge and delivery of te tiriti-centred leadership\, in order to enact and remain true to Te Whāriki\, our bicultural curriculum. Join Maria in a full-day waananga exploring what it means to be an effective\, impactful leader in your place. Sit alongside other leaders and draw from the kōrero and insights shared. We will explore a range of whakaaro and strategies for kaiarahi to understand how they can fulfil their commitment within the partnership between tangata whenua and tangata tiriti including: deepening understanding of Māori models of leadership\, leading in a mana-enhancing way\, tīkanga Māori\, ways of effectively working alongside local iwi and hapū\, broadening competence and understanding of Māori ways of knowing\, being and doing to strengthen overall bicultural leadership and practice. \n			\n				Download a flyer to print and share\n			\n				\n				\n				\n				\n				To be held at Greerton Early Learning Centre\, Tauranga \n9:00am-3:30pm on Friday 24 May 2024 \nDelicious morning tea and lunch provided \n			\n			\n				\n				\n				\n				\n			\n				\n				\n				\n				\n				\n				\n				\n				\n				\n				\n				\n			\n			\n				\n				\n				\n				\n			\n				\n				\n				\n				\n				\n				\n				Register below\, if you have problems click here to complete a short online form
URL:https://events.elp.co.nz/event/strengthening-bicultural-leadership-in-your-place-tauranga/
LOCATION:Greerton Early Learning Centre\, 1 Emmett Street\, Tauranga\, 3112\, New Zealand
CATEGORIES:Workshop
END:VEVENT
END:VCALENDAR